BEGIN:VCALENDAR
VERSION:2.0
PRODID:-//P1 Mini RC - ECPv6.15.18//NONSGML v1.0//EN
CALSCALE:GREGORIAN
METHOD:PUBLISH
X-WR-CALNAME:P1 Mini RC
X-ORIGINAL-URL:https://www.p1minirc.com
X-WR-CALDESC:Events for P1 Mini RC
REFRESH-INTERVAL;VALUE=DURATION:PT1H
X-Robots-Tag:noindex
X-PUBLISHED-TTL:PT1H
BEGIN:VTIMEZONE
TZID:America/Phoenix
BEGIN:STANDARD
TZOFFSETFROM:-0700
TZOFFSETTO:-0700
TZNAME:MST
DTSTART:20240101T000000
END:STANDARD
END:VTIMEZONE
BEGIN:VEVENT
DTSTART;TZID=America/Phoenix:20250712T080000
DTEND;TZID=America/Phoenix:20250712T180000
DTSTAMP:20260420T064705
CREATED:20250630T002452Z
LAST-MODIFIED:20250820T161040Z
UID:1431-1752307200-1752343200@www.p1minirc.com
SUMMARY:7/12 Club Race
DESCRIPTION:7/12 Club Race\nOur first official club race at The Collection Queen Creek is happening on July 12th! Come check out the racing action! Awards will be given out to the Top 3 in each class! \nClasses:\n\nNovice\nBox Stock\nAAA Spec\nAAA 3500\nLipo 2500\nLipo 3500 Lexan\nFormula 1\nAWD Modified\n2WD Modified\nPan Open\nEuro Truck\n\nClass rules can be found here. \nFees:\n$15 First Class\, $5 Each Additional Class. Novice $5
URL:https://www.p1minirc.com/event/7-12-club-race/
LOCATION:The Collection Queen Creek\, 7303 S Hawes Rd. Ste 146\, Mesa\, Arizona\, 85212\, United States
CATEGORIES:Mini-Z Club Race
ATTACH;FMTTYPE=image/png:https://www.p1minirc.com/wp-content/uploads/2025/06/7-12-Race-Flyer-scaled.png
END:VEVENT
BEGIN:VEVENT
DTSTART;TZID=America/Phoenix:20250726T080000
DTEND;TZID=America/Phoenix:20250726T180000
DTSTAMP:20260420T064705
CREATED:20250714T172546Z
LAST-MODIFIED:20250820T161035Z
UID:1507-1753516800-1753552800@www.p1minirc.com
SUMMARY:7/26 Club Race
DESCRIPTION:7/26 Club Race\nIt’s official\, we’re racing again! Join us at The Collection Queen Creek for another day of Mini-Z and 1:28 scale racing action! – The Collection Queen Creek (7303 S Hawes Rd #146\, Mesa\, AZ 85212) – Saturday\, July 26th – Doors open at 8AM | Practice Starts at 9AM | Racing starts at 11AM Check the flyer for full details! \nClasses:\n\nNovice\nBox Stock\nAAA Spec\nAAA 3500\nLipo 2500\nLipo 3500 Lexan\nFormula 1\nAWD Modified\n2WD Modified\nPan Open\nEuro Truck\n\nClass rules can be found here. \nFees:\n$15 First Class\, $5 Each Additional Class. Novice $5
URL:https://www.p1minirc.com/event/7-26-club-race/
LOCATION:The Collection Queen Creek\, 7303 S Hawes Rd. Ste 146\, Mesa\, Arizona\, 85212\, United States
CATEGORIES:Mini-Z Club Race
ATTACH;FMTTYPE=image/png:https://www.p1minirc.com/wp-content/uploads/2025/07/7-26-Race-Flyer-scaled.png
END:VEVENT
END:VCALENDAR